BEGIN:VCALENDAR
VERSION:2.0
PRODID:-//Tukios.com/
BEGIN:VEVENT
UID:315f904b-9966-4596-b9d0-e250c0f4da30@www.cartwrightfuneralhome.com
DTSTAMP:20260425T003057Z
DTSTART:20260424T223000Z
DTEND:20260425T030000Z
SUMMARY:Funeral Service
DESCRIPTION:
URL:https://www.cartwrightfuneralhome.com/obituaries/oscar-vasquez
LOCATION: 2080 North Frederick Pike  Winchester VA 22603
GEO:39.2198755;-78.1936213
END:VEVENT
END:VCALENDAR