BEGIN:VCALENDAR
VERSION:2.0
PRODID:-//Tukios.com/
BEGIN:VEVENT
UID:25c9463b-9353-4549-83ef-9508436cac46@www.cartwrightfuneralhome.com
DTSTAMP:20260425T002941Z
DTSTART:20260425T140000Z
DTEND:20260425T150000Z
SUMMARY:Burial
DESCRIPTION:
URL:https://www.cartwrightfuneralhome.com/obituaries/oscar-vasquez
LOCATION: 305 East Boscawen Street  Winchester VA 22601
GEO:39.1828542;-78.1610603
END:VEVENT
END:VCALENDAR