BEGIN:VCALENDAR
VERSION:2.0
PRODID:-//Tukios.com/
BEGIN:VEVENT
UID:1fe62a34-4bb1-42e5-9600-5e8b8d06fa03@www.cartwrightfuneralhome.com
DTSTAMP:20260425T003052Z
DTSTART:20260503T150000Z
DTEND:20260503T160000Z
SUMMARY:Celebration of Life Memorial Service
DESCRIPTION:
URL:https://www.cartwrightfuneralhome.com/obituaries/pamela-carey
LOCATION:Johnson-Williams Middle School Authorium Lincoln Ave  Berryville 
	VA 22611
GEO:39.1533162;-77.9874838
END:VEVENT
END:VCALENDAR